BEGIN:VCALENDAR
VERSION:2.0
PRODID:-//Town of Millville - ECPv6.0.13.1//NONSGML v1.0//EN
CALSCALE:GREGORIAN
METHOD:PUBLISH
X-ORIGINAL-URL:https://millville.delaware.gov
X-WR-CALDESC:Events for Town of Millville
REFRESH-INTERVAL;VALUE=DURATION:PT1H
X-Robots-Tag:noindex
X-PUBLISHED-TTL:PT1H
BEGIN:VTIMEZONE
TZID:America/New_York
BEGIN:DAYLIGHT
TZOFFSETFROM:-0500
TZOFFSETTO:-0400
TZNAME:EDT
DTSTART:20240310T070000
END:DAYLIGHT
BEGIN:STANDARD
TZOFFSETFROM:-0400
TZOFFSETTO:-0500
TZNAME:EST
DTSTART:20241103T060000
END:STANDARD
END:VTIMEZONE
BEGIN:VEVENT
DTSTART;TZID=America/New_York:20241015T100000
DTEND;TZID=America/New_York:20241015T110000
DTSTAMP:20260424T002843
CREATED:20241008T182125Z
LAST-MODIFIED:20241008T185345Z
UID:10001507-1728986400-1728990000@millville.delaware.gov
SUMMARY:Annexation Committee Meeting
DESCRIPTION:Meetings are held as needed at Millville Town Hall\, 36404 Club House Road\, Millville\, DE  19967
URL:https://millville.delaware.gov/event/annexation-committee-meeting/
LOCATION:Millville Town Hall\, 36404 Club House Road\, Millville\, DE\, 19967\, United States
CATEGORIES:Annexation Committee Meeting
ATTACH;FMTTYPE=image/png:https://millville.delaware.gov/wp-content/uploads/2022/12/seal-1.png
END:VEVENT
END:VCALENDAR