BEGIN:VCALENDAR
VERSION:2.0
PRODID:-//Town of Millville - ECPv6.0.13.1//NONSGML v1.0//EN
CALSCALE:GREGORIAN
METHOD:PUBLISH
X-ORIGINAL-URL:https://millville.delaware.gov
X-WR-CALDESC:Events for Town of Millville
REFRESH-INTERVAL;VALUE=DURATION:PT1H
X-Robots-Tag:noindex
X-PUBLISHED-TTL:PT1H
BEGIN:VTIMEZONE
TZID:America/New_York
BEGIN:DAYLIGHT
TZOFFSETFROM:-0500
TZOFFSETTO:-0400
TZNAME:EDT
DTSTART:20250309T070000
END:DAYLIGHT
BEGIN:STANDARD
TZOFFSETFROM:-0400
TZOFFSETTO:-0500
TZNAME:EST
DTSTART:20251102T060000
END:STANDARD
END:VTIMEZONE
BEGIN:VEVENT
DTSTART;TZID=America/New_York:20250319T100000
DTEND;TZID=America/New_York:20250319T110000
DTSTAMP:20260423T183406
CREATED:20250311T145518Z
LAST-MODIFIED:20250311T160756Z
UID:10002170-1742378400-1742382000@millville.delaware.gov
SUMMARY:Annexation Meeting
DESCRIPTION:Zoom Link Option (AUDIO ONLY) \n\n\n\n \n\n\n\nRegister in advance for this meeting: \n\n\n\n \n\n\n\nhttps://zoom.us/meeting/register/ChfaAoCHSIyQ9-EvyltE-w \n\n\n\n \n\n\n\nAfter registering\, you will receive a confirmation email containing information about joining the meeting.
URL:https://millville.delaware.gov/event/annexation-meeting/
LOCATION:Millville Town Hall\, 36404 Club House Road\, Millville\, DE\, 19967\, United States
CATEGORIES:Annexation Committee Meeting
ATTACH;FMTTYPE=image/png:https://millville.delaware.gov/wp-content/uploads/2022/12/seal-1.png
END:VEVENT
END:VCALENDAR