BEGIN:VCALENDAR
VERSION:2.0
PRODID:-//Town of Millville - ECPv6.0.13.1//NONSGML v1.0//EN
CALSCALE:GREGORIAN
METHOD:PUBLISH
X-WR-CALNAME:Town of Millville
X-ORIGINAL-URL:https://millville.delaware.gov
X-WR-CALDESC:Events for Town of Millville
REFRESH-INTERVAL;VALUE=DURATION:PT1H
X-Robots-Tag:noindex
X-PUBLISHED-TTL:PT1H
BEGIN:VTIMEZONE
TZID:America/New_York
BEGIN:DAYLIGHT
TZOFFSETFROM:-0500
TZOFFSETTO:-0400
TZNAME:EDT
DTSTART:20240310T070000
END:DAYLIGHT
BEGIN:STANDARD
TZOFFSETFROM:-0400
TZOFFSETTO:-0500
TZNAME:EST
DTSTART:20241103T060000
END:STANDARD
BEGIN:DAYLIGHT
TZOFFSETFROM:-0500
TZOFFSETTO:-0400
TZNAME:EDT
DTSTART:20250309T070000
END:DAYLIGHT
BEGIN:STANDARD
TZOFFSETFROM:-0400
TZOFFSETTO:-0500
TZNAME:EST
DTSTART:20251102T060000
END:STANDARD
END:VTIMEZONE
BEGIN:VEVENT
DTSTART;TZID=America/New_York:20250929T100000
DTEND;TZID=America/New_York:20250929T110000
DTSTAMP:20260422T124354
CREATED:20250922T184843Z
LAST-MODIFIED:20250922T185431Z
UID:10002191-1759140000-1759143600@millville.delaware.gov
SUMMARY:Charter Meeting
DESCRIPTION:Pre-Register for ZOOM (AUDIO ONLY): \n\n\n\nhttps://zoom.us/meeting/register/W-HfGs1dSTCrZjdcGH7PjA \n\n\n\nAfter registering\, you will receive a confirmation email containing information about joining the meeting.
URL:https://millville.delaware.gov/event/charter-meeting-2/
LOCATION:Millville Town Hall\, 36404 Club House Road\, Millville\, DE\, 19967\, United States
CATEGORIES:Charter Review Committee
ATTACH;FMTTYPE=image/png:https://millville.delaware.gov/wp-content/uploads/2022/12/seal-1.png
END:VEVENT
BEGIN:VEVENT
DTSTART;TZID=America/New_York:20250911T100000
DTEND;TZID=America/New_York:20250911T110000
DTSTAMP:20260422T124354
CREATED:20250818T140354Z
LAST-MODIFIED:20250904T192547Z
UID:10002186-1757584800-1757588400@millville.delaware.gov
SUMMARY:Charter Meeting
DESCRIPTION:Charter Meetings are held on an as needed basis. \n\n\n\n\n\n\n\nZoom Link (Audio Only) \n\n\n\nMust pre-register on zoom to attend meeting.   After registering\, you will receive a confirmation email with more details. \n\n\n\nhttps://zoom.us/meeting/register/JWWYhyW9T_2C386_s6zsmQ
URL:https://millville.delaware.gov/event/charter-meeting/
LOCATION:Millville Town Hall\, 36404 Club House Road\, Millville\, DE\, 19967\, United States
CATEGORIES:Charter Review Committee
ATTACH;FMTTYPE=image/png:https://millville.delaware.gov/wp-content/uploads/2022/12/seal-1.png
END:VEVENT
BEGIN:VEVENT
DTSTART;TZID=America/New_York:20250721T100000
DTEND;TZID=America/New_York:20250721T110000
DTSTAMP:20260422T124354
CREATED:20250618T160322Z
LAST-MODIFIED:20250717T174413Z
UID:10002181-1753092000-1753095600@millville.delaware.gov
SUMMARY:Charter Committee Meeting - Postponed till August\, TBD
DESCRIPTION:Zoom Meeting is available: (AUDIO ONLY) Register in advance for this meeting:  \n\n\n\nhttps://zoom.us/meeting/register/dmjyo1yUToSRy52RLCdU3A \n\n\n\nAfter registering\, you will receive a confirmation email containing information about joining the meeting.
URL:https://millville.delaware.gov/event/charter-committee-meeting-8/
LOCATION:Millville Town Hall\, 36404 Club House Road\, Millville\, DE\, 19967\, United States
CATEGORIES:Charter Review Committee
ATTACH;FMTTYPE=image/png:https://millville.delaware.gov/wp-content/uploads/2022/12/seal-1.png
END:VEVENT
BEGIN:VEVENT
DTSTART;TZID=America/New_York:20250616T100000
DTEND;TZID=America/New_York:20250616T110000
DTSTAMP:20260422T124354
CREATED:20250603T175822Z
LAST-MODIFIED:20250609T192118Z
UID:10002180-1750068000-1750071600@millville.delaware.gov
SUMMARY:Charter Committee Meeting
DESCRIPTION:Zoom Link (Audio only) — Must register in advance.   Directions will be sent how to join the meeting after registration. \n\n\n\nhttps://zoom.us/meeting/register/_h3ON1tJQXqickVZ68CECQ
URL:https://millville.delaware.gov/event/charter-committee-meeting-7/
LOCATION:Millville Town Hall\, 36404 Club House Road\, Millville\, DE\, 19967\, United States
CATEGORIES:Charter Review Committee
ATTACH;FMTTYPE=image/png:https://millville.delaware.gov/wp-content/uploads/2022/12/seal-1.png
END:VEVENT
BEGIN:VEVENT
DTSTART;TZID=America/New_York:20250520T190000
DTEND;TZID=America/New_York:20250520T210000
DTSTAMP:20260422T124354
CREATED:20250123T143418Z
LAST-MODIFIED:20250514T200459Z
UID:10002056-1747767600-1747774800@millville.delaware.gov
SUMMARY:Town Council Meeting
DESCRIPTION:Zoom Meeting is available: (AUDIO ONLY)  \n\n\n\nRegister in advance for this meeting: \n\n\n\nhttps://zoom.us/meeting/register/3Laxa_1zSWiM7tFJo0TtyQ \n\n\n\nAfter registering\, you will receive a confirmation email containing information about joining the meeting.
URL:https://millville.delaware.gov/event/town-council-meeting-53/
LOCATION:Millville Town Hall\, 36404 Club House Road\, Millville\, DE\, 19967\, United States
CATEGORIES:Charter Review Committee,Town Council Meetings
ATTACH;FMTTYPE=image/png:https://millville.delaware.gov/wp-content/uploads/2022/12/seal-1.png
END:VEVENT
BEGIN:VEVENT
DTSTART;TZID=America/New_York:20250410T110000
DTEND;TZID=America/New_York:20250410T120000
DTSTAMP:20260422T124354
CREATED:20250312T161012Z
LAST-MODIFIED:20250403T201614Z
UID:10002172-1744282800-1744286400@millville.delaware.gov
SUMMARY:Charter Committee Meeting
DESCRIPTION: Zoom link option Audio Only \n\n\n\nRegister in advance for this meeting: \n\n\n\nhttps://zoom.us/meeting/register/N_eucmHRSnimveGWC-3C1Q \n\n\n\nAfter registering\, you will receive a confirmation email containing information about joining the meeting.
URL:https://millville.delaware.gov/event/charter-committee-meeting-6/
LOCATION:Millville Town Hall\, 36404 Club House Road\, Millville\, DE\, 19967\, United States
CATEGORIES:Charter Review Committee
ATTACH;FMTTYPE=image/png:https://millville.delaware.gov/wp-content/uploads/2022/12/seal-1.png
END:VEVENT
BEGIN:VEVENT
DTSTART;TZID=America/New_York:20250320T110000
DTEND;TZID=America/New_York:20250320T120000
DTSTAMP:20260422T124354
CREATED:20250228T170831Z
LAST-MODIFIED:20250311T144203Z
UID:10002169-1742468400-1742472000@millville.delaware.gov
SUMMARY:Charter Committee Meeting - Cancelled
DESCRIPTION:
URL:https://millville.delaware.gov/event/charter-committee-meeting-5/
LOCATION:Millville Town Hall\, 36404 Club House Road\, Millville\, DE\, 19967\, United States
CATEGORIES:Charter Review Committee
ATTACH;FMTTYPE=image/png:https://millville.delaware.gov/wp-content/uploads/2022/12/seal-1.png
END:VEVENT
BEGIN:VEVENT
DTSTART;TZID=America/New_York:20250227T100000
DTEND;TZID=America/New_York:20250227T110000
DTSTAMP:20260422T124354
CREATED:20250220T212712Z
LAST-MODIFIED:20250220T212713Z
UID:10002168-1740650400-1740654000@millville.delaware.gov
SUMMARY:Charter Committee Meeting
DESCRIPTION:
URL:https://millville.delaware.gov/event/charter-committee-meeting-4/
LOCATION:Millville Town Hall\, 36404 Club House Road\, Millville\, DE\, 19967\, United States
CATEGORIES:Charter Review Committee
ATTACH;FMTTYPE=image/png:https://millville.delaware.gov/wp-content/uploads/2022/12/seal-1.png
END:VEVENT
BEGIN:VEVENT
DTSTART;TZID=America/New_York:20250213T100000
DTEND;TZID=America/New_York:20250213T110000
DTSTAMP:20260422T124354
CREATED:20250117T175337Z
LAST-MODIFIED:20250206T161420Z
UID:10001547-1739440800-1739444400@millville.delaware.gov
SUMMARY:Charter Committee Meeting - Postponed
DESCRIPTION:
URL:https://millville.delaware.gov/event/charter-committee-meeting-3/
LOCATION:Millville Town Hall\, 36404 Club House Road\, Millville\, DE\, 19967\, United States
CATEGORIES:Charter Review Committee
ATTACH;FMTTYPE=image/png:https://millville.delaware.gov/wp-content/uploads/2022/12/seal-1.png
END:VEVENT
BEGIN:VEVENT
DTSTART;TZID=America/New_York:20250116T100000
DTEND;TZID=America/New_York:20250116T110000
DTSTAMP:20260422T124354
CREATED:20241231T173216Z
LAST-MODIFIED:20250109T204951Z
UID:10001545-1737021600-1737025200@millville.delaware.gov
SUMMARY:Charter Committee Meeting
DESCRIPTION:(Rescheduled from January 7\, 2025 due to weather) \n\n\n\n\n\nA charter committee gives a municipality control over its organizational structure\, administrative procedures\, and other local matters. 
URL:https://millville.delaware.gov/event/charter-committee-meeting-2/
LOCATION:Millville Town Hall\, 36404 Club House Road\, Millville\, DE\, 19967\, United States
CATEGORIES:Charter Review Committee
ATTACH;FMTTYPE=image/jpeg:https://millville.delaware.gov/wp-content/uploads/2024/11/Banner-Image-1.jpg
END:VEVENT
BEGIN:VEVENT
DTSTART;TZID=America/New_York:20241120T100000
DTEND;TZID=America/New_York:20241120T110000
DTSTAMP:20260422T124354
CREATED:20241113T203332Z
LAST-MODIFIED:20241113T203341Z
UID:10001516-1732096800-1732100400@millville.delaware.gov
SUMMARY:Charter Committee Meeting
DESCRIPTION:A charter committee gives a municipality control over its organizational structure\, administrative procedures\, and other local matters. 
URL:https://millville.delaware.gov/event/charter-committee-meeting/
LOCATION:Millville Town Hall\, 36404 Club House Road\, Millville\, DE\, 19967\, United States
CATEGORIES:Charter Review Committee
ATTACH;FMTTYPE=image/jpeg:https://millville.delaware.gov/wp-content/uploads/2024/11/Banner-Image-1.jpg
END:VEVENT
BEGIN:VEVENT
DTSTART;TZID=America/New_York:20241009T100000
DTEND;TZID=America/New_York:20241009T110000
DTSTAMP:20260422T124354
CREATED:20241002T153552Z
LAST-MODIFIED:20241008T165124Z
UID:10001430-1728468000-1728471600@millville.delaware.gov
SUMMARY:Charter Review Committee Meeting - POSTPONED
DESCRIPTION:To be held at the Town Hall\, 36404 Club House Road\, Millville\, DE  19967
URL:https://millville.delaware.gov/event/charter-review-committee-meeting/
LOCATION:Evans Park\, 32517 Dukes Dr\, Millville\, DE\, 19967\, United States
CATEGORIES:Charter Review Committee
ATTACH;FMTTYPE=image/png:https://millville.delaware.gov/wp-content/uploads/2022/12/seal-1.png
END:VEVENT
END:VCALENDAR