BEGIN:VCALENDAR
VERSION:2.0
PRODID:-//Town of Millville - ECPv6.0.13.1//NONSGML v1.0//EN
CALSCALE:GREGORIAN
METHOD:PUBLISH
X-ORIGINAL-URL:https://millville.delaware.gov
X-WR-CALDESC:Events for Town of Millville
REFRESH-INTERVAL;VALUE=DURATION:PT1H
X-Robots-Tag:noindex
X-PUBLISHED-TTL:PT1H
BEGIN:VTIMEZONE
TZID:America/New_York
BEGIN:DAYLIGHT
TZOFFSETFROM:-0500
TZOFFSETTO:-0400
TZNAME:EDT
DTSTART:20260308T070000
END:DAYLIGHT
BEGIN:STANDARD
TZOFFSETFROM:-0400
TZOFFSETTO:-0500
TZNAME:EST
DTSTART:20261101T060000
END:STANDARD
BEGIN:DAYLIGHT
TZOFFSETFROM:-0500
TZOFFSETTO:-0400
TZNAME:EDT
DTSTART:20270314T070000
END:DAYLIGHT
BEGIN:STANDARD
TZOFFSETFROM:-0400
TZOFFSETTO:-0500
TZNAME:EST
DTSTART:20271107T060000
END:STANDARD
BEGIN:DAYLIGHT
TZOFFSETFROM:-0500
TZOFFSETTO:-0400
TZNAME:EDT
DTSTART:20280312T070000
END:DAYLIGHT
BEGIN:STANDARD
TZOFFSETFROM:-0400
TZOFFSETTO:-0500
TZNAME:EST
DTSTART:20281105T060000
END:STANDARD
BEGIN:DAYLIGHT
TZOFFSETFROM:-0500
TZOFFSETTO:-0400
TZNAME:EDT
DTSTART:20290311T070000
END:DAYLIGHT
BEGIN:STANDARD
TZOFFSETFROM:-0400
TZOFFSETTO:-0500
TZNAME:EST
DTSTART:20291104T060000
END:STANDARD
END:VTIMEZONE
BEGIN:VEVENT
DTSTART;TZID=America/New_York:20261126T000000
DTEND;TZID=America/New_York:20261126T235959
DTSTAMP:20260425T225001
CREATED:20250203T195115Z
LAST-MODIFIED:20251022T180301Z
UID:10002147-1795651200-1795737599@millville.delaware.gov
SUMMARY:THANKSGIVING DAY
DESCRIPTION:
URL:https://millville.delaware.gov/event/thanksgiving-day/2026-11-26/
LOCATION:Millville Town Hall\, 36404 Club House Road\, Millville\, DE\, 19967\, United States
CATEGORIES:Holidays
ATTACH;FMTTYPE=image/jpeg:https://millville.delaware.gov/wp-content/uploads/2025/02/images-1.jpg
END:VEVENT
BEGIN:VEVENT
DTSTART;TZID=America/New_York:20271125T000000
DTEND;TZID=America/New_York:20271125T235959
DTSTAMP:20260425T225001
CREATED:20250203T195115Z
LAST-MODIFIED:20251022T180301Z
UID:10002148-1827100800-1827187199@millville.delaware.gov
SUMMARY:THANKSGIVING DAY
DESCRIPTION:
URL:https://millville.delaware.gov/event/thanksgiving-day/2027-11-25/
LOCATION:Millville Town Hall\, 36404 Club House Road\, Millville\, DE\, 19967\, United States
CATEGORIES:Holidays
ATTACH;FMTTYPE=image/jpeg:https://millville.delaware.gov/wp-content/uploads/2025/02/images-1.jpg
END:VEVENT
BEGIN:VEVENT
DTSTART;TZID=America/New_York:20281123T000000
DTEND;TZID=America/New_York:20281123T235959
DTSTAMP:20260425T225001
CREATED:20250203T195115Z
LAST-MODIFIED:20251022T180301Z
UID:10002149-1858550400-1858636799@millville.delaware.gov
SUMMARY:THANKSGIVING DAY
DESCRIPTION:
URL:https://millville.delaware.gov/event/thanksgiving-day/2028-11-23/
LOCATION:Millville Town Hall\, 36404 Club House Road\, Millville\, DE\, 19967\, United States
CATEGORIES:Holidays
ATTACH;FMTTYPE=image/jpeg:https://millville.delaware.gov/wp-content/uploads/2025/02/images-1.jpg
END:VEVENT
BEGIN:VEVENT
DTSTART;TZID=America/New_York:20291122T000000
DTEND;TZID=America/New_York:20291122T235959
DTSTAMP:20260425T225001
CREATED:20250203T195115Z
LAST-MODIFIED:20251022T180301Z
UID:10002150-1890000000-1890086399@millville.delaware.gov
SUMMARY:THANKSGIVING DAY
DESCRIPTION:
URL:https://millville.delaware.gov/event/thanksgiving-day/2029-11-22/
LOCATION:Millville Town Hall\, 36404 Club House Road\, Millville\, DE\, 19967\, United States
CATEGORIES:Holidays
ATTACH;FMTTYPE=image/jpeg:https://millville.delaware.gov/wp-content/uploads/2025/02/images-1.jpg
END:VEVENT
END:VCALENDAR